BEGIN:VCALENDAR
VERSION:2.0
PRODID:-//Pete Brown - ECPv4.8.1//NONSGML v1.0//EN
CALSCALE:GREGORIAN
METHOD:PUBLISH
X-WR-CALNAME:Pete Brown
X-ORIGINAL-URL:https://www.petebrown.net
X-WR-CALDESC:Events for Pete Brown
BEGIN:VEVENT
DTSTART;TZID=Europe/London:20181013T120000
DTEND;TZID=Europe/London:20181013T193000
DTSTAMP:20260425T190928
CREATED:20180912T161348Z
LAST-MODIFIED:20180912T161348Z
UID:3112-1539432000-1539459000@www.petebrown.net
SUMMARY:TEDxLeamingtonSpa
DESCRIPTION:In the spirit of ‘ideas worth spreading’\, TEDx is a programme of local\, self-organised events that bring people together to share a TED-like experience. With tickets usually selling out in less than 2 hours\, TEDxLeamingtonSpa has become one of hottest events in the calendar. All I can tell you is that the theme is Rhythm. It’s going to be amazing. \n
URL:https://www.petebrown.net/event/tedxleamingtonspa/
LOCATION:The Assembly\, Spencer Street\, Leamington Spa\, CV31 3NF\, United Kingdom
END:VEVENT
END:VCALENDAR